BEGIN:VCALENDAR
VERSION:2.0
PRODID:-//Le Chene French Cuisine - ECPv6.15.20//NONSGML v1.0//EN
CALSCALE:GREGORIAN
METHOD:PUBLISH
X-WR-CALNAME:Le Chene French Cuisine
X-ORIGINAL-URL:https://lechene.com
X-WR-CALDESC:Events for Le Chene French Cuisine
REFRESH-INTERVAL;VALUE=DURATION:PT1H
X-Robots-Tag:noindex
X-PUBLISHED-TTL:PT1H
BEGIN:VTIMEZONE
TZID:America/Los_Angeles
BEGIN:DAYLIGHT
TZOFFSETFROM:-0800
TZOFFSETTO:-0700
TZNAME:PDT
DTSTART:20170312T100000
END:DAYLIGHT
BEGIN:STANDARD
TZOFFSETFROM:-0700
TZOFFSETTO:-0800
TZNAME:PST
DTSTART:20171105T090000
END:STANDARD
BEGIN:DAYLIGHT
TZOFFSETFROM:-0800
TZOFFSETTO:-0700
TZNAME:PDT
DTSTART:20180311T100000
END:DAYLIGHT
BEGIN:STANDARD
TZOFFSETFROM:-0700
TZOFFSETTO:-0800
TZNAME:PST
DTSTART:20181104T090000
END:STANDARD
BEGIN:DAYLIGHT
TZOFFSETFROM:-0800
TZOFFSETTO:-0700
TZNAME:PDT
DTSTART:20190310T100000
END:DAYLIGHT
BEGIN:STANDARD
TZOFFSETFROM:-0700
TZOFFSETTO:-0800
TZNAME:PST
DTSTART:20191103T090000
END:STANDARD
END:VTIMEZONE
BEGIN:VEVENT
DTSTART;TZID=America/Los_Angeles:20180825T183000
DTEND;TZID=America/Los_Angeles:20180825T213000
DTSTAMP:20260421T135719
CREATED:20180710T230208Z
LAST-MODIFIED:20190808T010115Z
UID:2056-1535221800-1535232600@lechene.com
SUMMARY:Murder Mystery Dinner Theater
DESCRIPTION:This event has passed. If you’re looking for the October 27th\, 2018 Murder Mystery Event\, please follow this link: https://lechene.com/event/murder-mystery-dinner-theater-3/ \n \n			\n				\n				\n				\n				\n				\n			\n				\n				\n				\n				\n				Presents:\nMurder Mystery Dinner Theater\n \nSaturday\, August 25th\, 2018\n6:30pm – Registration\n7:00pm – Dinner and Show\n  \n\n \nStarters\nAmuse BoucheSwiss Cheese Gougeres \nBaby Mix Salad Vinaigrette  \nAppetizer\nBraised Beef Chuck Roll on Linguini PastaSaint Gregory Pinot Noir RoseMonterey County 2016 \nDinner\nPoached Salmon with Bay Shrimp and Lobster SaucePotatoes au GratinSautéed Green BeansClaudia Grenache 2010  \nDessert \nWhite Chocolate Mousse Charlotte with Strawberry SauceCoffee or Tea
URL:https://lechene.com/event/murder-mystery-dinner-theater-2/
LOCATION:Le Chene French Restaurant\, 12625 Sierra Highway\, Santa Clarita\, CA\, 91390\, United States
CATEGORIES:Murder Mystery Theater
ATTACH;FMTTYPE=image/png:https://lechene.com/wp-content/uploads/2017/04/Murder-Mystery-Background-Image-2017-e1492234698943.png
ORGANIZER;CN="Le Chene":MAILTO:info@lechene.com
END:VEVENT
END:VCALENDAR