BEGIN:VCALENDAR
VERSION:2.0
PRODID:-//Le Chene French Cuisine - ECPv6.15.20//NONSGML v1.0//EN
CALSCALE:GREGORIAN
METHOD:PUBLISH
X-ORIGINAL-URL:https://lechene.com
X-WR-CALDESC:Events for Le Chene French Cuisine
REFRESH-INTERVAL;VALUE=DURATION:PT1H
X-Robots-Tag:noindex
X-PUBLISHED-TTL:PT1H
BEGIN:VTIMEZONE
TZID:America/Los_Angeles
BEGIN:DAYLIGHT
TZOFFSETFROM:-0800
TZOFFSETTO:-0700
TZNAME:PDT
DTSTART:20220313T100000
END:DAYLIGHT
BEGIN:STANDARD
TZOFFSETFROM:-0700
TZOFFSETTO:-0800
TZNAME:PST
DTSTART:20221106T090000
END:STANDARD
BEGIN:DAYLIGHT
TZOFFSETFROM:-0800
TZOFFSETTO:-0700
TZNAME:PDT
DTSTART:20230312T100000
END:DAYLIGHT
BEGIN:STANDARD
TZOFFSETFROM:-0700
TZOFFSETTO:-0800
TZNAME:PST
DTSTART:20231105T090000
END:STANDARD
BEGIN:DAYLIGHT
TZOFFSETFROM:-0800
TZOFFSETTO:-0700
TZNAME:PDT
DTSTART:20240310T100000
END:DAYLIGHT
BEGIN:STANDARD
TZOFFSETFROM:-0700
TZOFFSETTO:-0800
TZNAME:PST
DTSTART:20241103T090000
END:STANDARD
END:VTIMEZONE
BEGIN:VEVENT
DTSTART;TZID=America/Los_Angeles:20230118T190000
DTEND;TZID=America/Los_Angeles:20230118T220000
DTSTAMP:20260423T232346
CREATED:20221110T224535Z
LAST-MODIFIED:20230117T175104Z
UID:23884-1674068400-1674079200@lechene.com
SUMMARY:Le Chene Presents - An Evening with Medium Yesenia
DESCRIPTION:Le Chene Presents – An Evening with Medium Yesenia\nConnecting with Loved Ones In Heaven\,Giving Healing and Light to Your Questions\nWednesday\, January 18\, 20237:00 PM – Cocktails and Registration7:30 PM – 10:00 PM – Dinner and Readings\n\nStarters\n Salad Vinaigrette \nSweet Potato Ravioli \nGalicia Stars \n\nMain Course\nBreast of Chicken ChampagneorSalmon MoutardeorNew York Steak Bordelaise Butter \nVegetables du JourPotatoes au Gratin \nAdrian Tempranillo 2014 \n\nDessert\nChocolate Mousse Charlotte \nCoffee\, Tea\, Sodas \n\nTotal of $100 per person ($20 for speaker\, $80 for dinner)\, all inclusive (includes tax & tip).Event is prepaid in advance\, and payment is non-refundable. \nSeating is limited – make your reservation soon! \n\nMake Reservation\n \nIn an effort to maintain intimacy for the type of event this is\, we have already reached our capacity limit for this event and are no longer taking reservations for January 18th’s Evening with Yesenia. However\, because of the strong demand\, we may host another\, similar event soon. \nPlease fill out this form to join our waitlist and receive first notifications for our next Evening with Medium Yessenia. \n\n	Notice: JavaScript is required for this content.\n\n\n    \n\n\n        \n        \n        \n\n\n\n\n\n\n\n\n\n\n        \n\n        \n\n         \nAs of Tuesday\, January 17\, 2023\, we’ve reached capacity for this event so reservations are now closed. We’ll update this page if anything changes\, or you may call the restaurant to see if anything opens up.  \nThank you so much for your interest and we look forward to seeing you at Le Chene in the future! \n			\n				\n				\n				\n				\n				About Yesenia\n			\n			\n				\n				\n				\n				\n			\n				\n				\n				\n				\n				\n				\n				\n				\n				\n				\n				Yesenia Berbiar is a world renowned Spiritual Medium\, who has been reuniting people with their loved ones in heaven\, including pets\, for much of her life. \nShe has conducted hundreds of medium and psychic readings for people across the United States\, as well as Ireland\, Mexico\, Japan\, Thailand\, India\, Italy\, and France. \nBecause she is very discreet\, her clients include actors\, musicians\, medical professionals\, police officers\, educators\, business professionals\, retirees\, and working moms and dads. \nBesides conducting medium readings\, Yesenia also conducts paranormal investigations and house cleansings with her husband\, who is also a medium and professional investigator. \nDuring her free time\, which isn’t much\, she spends it with her family in Los Angeles\, California or traveling the world.
URL:https://lechene.com/event/medium-yesenia-at-le-chene-3/
LOCATION:Le Chene French Restaurant\, 12625 Sierra Highway\, Santa Clarita\, CA\, 91390\, United States
CATEGORIES:Medium Events
ATTACH;FMTTYPE=image/jpeg:https://lechene.com/wp-content/uploads/2022/09/Yesenia-Logo-1920.jpg
ORGANIZER;CN="Le Chene":MAILTO:info@lechene.com
END:VEVENT
END:VCALENDAR