BEGIN:VCALENDAR
VERSION:2.0
PRODID:-//Le Chene French Cuisine - ECPv6.15.20//NONSGML v1.0//EN
CALSCALE:GREGORIAN
METHOD:PUBLISH
X-ORIGINAL-URL:https://lechene.com
X-WR-CALDESC:Events for Le Chene French Cuisine
REFRESH-INTERVAL;VALUE=DURATION:PT1H
X-Robots-Tag:noindex
X-PUBLISHED-TTL:PT1H
BEGIN:VTIMEZONE
TZID:America/Los_Angeles
BEGIN:DAYLIGHT
TZOFFSETFROM:-0800
TZOFFSETTO:-0700
TZNAME:PDT
DTSTART:20220313T100000
END:DAYLIGHT
BEGIN:STANDARD
TZOFFSETFROM:-0700
TZOFFSETTO:-0800
TZNAME:PST
DTSTART:20221106T090000
END:STANDARD
BEGIN:DAYLIGHT
TZOFFSETFROM:-0800
TZOFFSETTO:-0700
TZNAME:PDT
DTSTART:20230312T100000
END:DAYLIGHT
BEGIN:STANDARD
TZOFFSETFROM:-0700
TZOFFSETTO:-0800
TZNAME:PST
DTSTART:20231105T090000
END:STANDARD
BEGIN:DAYLIGHT
TZOFFSETFROM:-0800
TZOFFSETTO:-0700
TZNAME:PDT
DTSTART:20240310T100000
END:DAYLIGHT
BEGIN:STANDARD
TZOFFSETFROM:-0700
TZOFFSETTO:-0800
TZNAME:PST
DTSTART:20241103T090000
END:STANDARD
END:VTIMEZONE
BEGIN:VEVENT
DTSTART;TZID=America/Los_Angeles:20230315T183000
DTEND;TZID=America/Los_Angeles:20230315T220000
DTSTAMP:20260423T110634
CREATED:20230119T154417Z
LAST-MODIFIED:20230307T025451Z
UID:26354-1678905000-1678917600@lechene.com
SUMMARY:Le Chene Presents - An Evening with Medium Yesenia
DESCRIPTION:Le Chene Presents – An Evening with Medium Yesenia\nConnecting with Loved Ones In Heaven\,Giving Healing and Light to Your Questions\nWednesday\, March 15\, 20236:30 PM – Cocktails and Registration7:00 PM – 9:30 PM – Dinner and Readings\n\nStarters\n Salad Vinaigrette \nSalmon Dumpling with Shrimp\, Mushroom\, Lobster Sauce \nGalicia Stars \n\nMain Course\nBreast of Chicken ChampagneorSalmon en CrouteorRoast Pork Loin with Gherkins and Mustard Sauce \nVegetables du JourPotatoes au Gratin \nAmadeo Tempranillo 2014 \n\nDessert\nWhite Chocolate Mousse Charlotte \nCoffee\, Tea\, Sodas \n\nTotal of $100 per person ($20 for speaker\, $80 for dinner)\, all inclusive (includes tax & tip).Event is prepaid in advance\, and payment is non-refundable. \nSeating is limited – make your reservation soon! \n\nMake Reservation\n \nIn an effort to maintain intimacy for the type of event this is\, we have already reached our capacity limit and are no longer taking reservations for the March 15\, 2023 Evening with Yesenia. However\, because of the strong demand\, we may host another\, similar event soon. \nPlease fill out this form to join our waitlist and receive first notifications for our next Evening with Medium Yessenia. \nAlso\, if any vacancies should arise for this event (on March 15th)\, we will contact anyone who’s filled in this waitlist form\, to see if they’d like to fill the vacancy. \n\n	Notice: JavaScript is required for this content.\n\n\n    \n\n\n        \n        \n        \n\n\n\n\n\n\n\n\n\n\n        \n\n        \n\n         \n \n			\n				\n				\n				\n				\n				About Yesenia\n			\n			\n				\n				\n				\n				\n			\n				\n				\n				\n				\n				\n				\n				\n				\n				\n				\n				Yesenia Berbiar is a world renowned Spiritual Medium\, who has been reuniting people with their loved ones in heaven\, including pets\, for much of her life. \nShe has conducted hundreds of medium and psychic readings for people across the United States\, as well as Ireland\, Mexico\, Japan\, Thailand\, India\, Italy\, and France. \nBecause she is very discreet\, her clients include actors\, musicians\, medical professionals\, police officers\, educators\, business professionals\, retirees\, and working moms and dads. \nBesides conducting medium readings\, Yesenia also conducts paranormal investigations and house cleansings with her husband\, who is also a medium and professional investigator. \nDuring her free time\, which isn’t much\, she spends it with her family in Los Angeles\, California or traveling the world.
URL:https://lechene.com/event/medium-yesenia-at-le-chene-4/
LOCATION:Le Chene French Restaurant\, 12625 Sierra Highway\, Santa Clarita\, CA\, 91390\, United States
CATEGORIES:Medium Events
ATTACH;FMTTYPE=image/jpeg:https://lechene.com/wp-content/uploads/2022/09/Yesenia-Logo-1920.jpg
ORGANIZER;CN="Le Chene":MAILTO:info@lechene.com
END:VEVENT
END:VCALENDAR