BEGIN:VCALENDAR
VERSION:2.0
PRODID:-//Le Chene French Cuisine - ECPv6.15.20//NONSGML v1.0//EN
CALSCALE:GREGORIAN
METHOD:PUBLISH
X-WR-CALNAME:Le Chene French Cuisine
X-ORIGINAL-URL:https://lechene.com
X-WR-CALDESC:Events for Le Chene French Cuisine
REFRESH-INTERVAL;VALUE=DURATION:PT1H
X-Robots-Tag:noindex
X-PUBLISHED-TTL:PT1H
BEGIN:VTIMEZONE
TZID:America/Los_Angeles
BEGIN:DAYLIGHT
TZOFFSETFROM:-0800
TZOFFSETTO:-0700
TZNAME:PDT
DTSTART:20210314T100000
END:DAYLIGHT
BEGIN:STANDARD
TZOFFSETFROM:-0700
TZOFFSETTO:-0800
TZNAME:PST
DTSTART:20211107T090000
END:STANDARD
BEGIN:DAYLIGHT
TZOFFSETFROM:-0800
TZOFFSETTO:-0700
TZNAME:PDT
DTSTART:20220313T100000
END:DAYLIGHT
BEGIN:STANDARD
TZOFFSETFROM:-0700
TZOFFSETTO:-0800
TZNAME:PST
DTSTART:20221106T090000
END:STANDARD
BEGIN:DAYLIGHT
TZOFFSETFROM:-0800
TZOFFSETTO:-0700
TZNAME:PDT
DTSTART:20230312T100000
END:DAYLIGHT
BEGIN:STANDARD
TZOFFSETFROM:-0700
TZOFFSETTO:-0800
TZNAME:PST
DTSTART:20231105T090000
END:STANDARD
END:VTIMEZONE
BEGIN:VEVENT
DTSTART;TZID=America/Los_Angeles:20221105T183000
DTEND;TZID=America/Los_Angeles:20221105T220000
DTSTAMP:20260425T060952
CREATED:20220927T030431Z
LAST-MODIFIED:20221021T052723Z
UID:22030-1667673000-1667685600@lechene.com
SUMMARY:November 2022 - Murder Mystery Dinner Theater at Le Chene
DESCRIPTION:Murder Mystery Dinner Theater by Sharpo!\nSaturday\, November 5\, 20226:30 PM – Cocktails and Registration7:00 PM – 10:00 PM – Dinner and Show\n\nStarters\nSwiss Cheese Gougeres \nBaby Mixed Salad Vinaigrette \nSeafood Feuillette \nIndaba Chenin Blanc 2016 \n\nMain Course\nRoast Pork Loin with Apples au jusorSalmon MoutardeorBreast of Chicken Dill Sauce \nVegetables du JourPotatoes au Gratin \nAmadeo Tempranillo 2014 \n\nDessert\nStrawberries Roulade Creme Patissiere \nCoffee or Tea \n\nTotal of $90 per person\, all inclusive ($22 for the show – $68 for dinner. Includes tax & tip).Event is prepaid in advance\, and payment is non-refundable. \nTables seat 10 guests; bring your friends! \n\n \nAs of Thursday\, October 20\, 2022\, we’ve reached capacity for this event so reservations are now closed. We’ll update this page if anything changes\, or you may call the restaurant to see if anything opens up. \nAlternatively\, if you’re interested in attending our next Murder Mystery event on New Year’s Eve\, click here for the details and to make a reservation. \nThank you so much for your interest and we look forward to seeing you at Le Chene in the future!
URL:https://lechene.com/event/november-2022-murder-mystery-dinner-theater-at-le-chene/
LOCATION:Le Chene French Restaurant\, 12625 Sierra Highway\, Santa Clarita\, CA\, 91390\, United States
CATEGORIES:Murder Mystery Theater
ATTACH;FMTTYPE=image/png:https://lechene.com/wp-content/uploads/2017/04/Murder-Mystery-Background-Image-2017-e1492234698943.png
ORGANIZER;CN="Le Chene":MAILTO:info@lechene.com
END:VEVENT
END:VCALENDAR