BEGIN:VCALENDAR
VERSION:2.0
PRODID:-//Le Chene French Cuisine - ECPv6.15.20//NONSGML v1.0//EN
CALSCALE:GREGORIAN
METHOD:PUBLISH
X-ORIGINAL-URL:https://lechene.com
X-WR-CALDESC:Events for Le Chene French Cuisine
REFRESH-INTERVAL;VALUE=DURATION:PT1H
X-Robots-Tag:noindex
X-PUBLISHED-TTL:PT1H
BEGIN:VTIMEZONE
TZID:America/Los_Angeles
BEGIN:DAYLIGHT
TZOFFSETFROM:-0800
TZOFFSETTO:-0700
TZNAME:PDT
DTSTART:20220313T100000
END:DAYLIGHT
BEGIN:STANDARD
TZOFFSETFROM:-0700
TZOFFSETTO:-0800
TZNAME:PST
DTSTART:20221106T090000
END:STANDARD
BEGIN:DAYLIGHT
TZOFFSETFROM:-0800
TZOFFSETTO:-0700
TZNAME:PDT
DTSTART:20230312T100000
END:DAYLIGHT
BEGIN:STANDARD
TZOFFSETFROM:-0700
TZOFFSETTO:-0800
TZNAME:PST
DTSTART:20231105T090000
END:STANDARD
BEGIN:DAYLIGHT
TZOFFSETFROM:-0800
TZOFFSETTO:-0700
TZNAME:PDT
DTSTART:20240310T100000
END:DAYLIGHT
BEGIN:STANDARD
TZOFFSETFROM:-0700
TZOFFSETTO:-0800
TZNAME:PST
DTSTART:20241103T090000
END:STANDARD
END:VTIMEZONE
BEGIN:VEVENT
DTSTART;TZID=America/Los_Angeles:20230513T183000
DTEND;TZID=America/Los_Angeles:20230513T220000
DTSTAMP:20260424T042046
CREATED:20230319T000940Z
LAST-MODIFIED:20230319T000944Z
UID:28557-1684002600-1684015200@lechene.com
SUMMARY:Mother's Day 2023 - Murder Mystery Dinner Theater at Le Chene
DESCRIPTION:Murder Mystery Dinner Theater by Sharpo!\nSaturday\, May 13\, 20236:30 PM – Cocktails and Registration7:00 PM – 10:00 PM – Dinner and Show\n\nStarters\nSwiss Cheese Gougeres \nBaby Mixed Salad Vinaigrette \nSeafood Feuillette \nEspirit Gassier Cotes de Provence 2017 Rose \n\nMain Course\nRoast Pork Loin with Apples au jusorSalmon MoutardeorBreast of Chicken Dill Sauce \nVegetables du JourPotatoes au Gratin \nAmadeo Tempranillo 2014 \n\nDessert\nStrawberries Roulade Creme Patissiere \nCoffee or Tea \n\nTotal of $100 per person\, all inclusive ($22 for the show – $78 for dinner. Includes tax & tip).Event is prepaid in advance\, and payment is non-refundable. \nTables seat 10 guests; bring your friends! \n\nMake Reservation\n\n	Notice: JavaScript is required for this content.
URL:https://lechene.com/event/mothers-day-2023-murder-mystery-dinner-theater-at-le-chene/
LOCATION:Le Chene French Restaurant\, 12625 Sierra Highway\, Santa Clarita\, CA\, 91390\, United States
CATEGORIES:Murder Mystery Theater
ATTACH;FMTTYPE=image/png:https://lechene.com/wp-content/uploads/2017/04/Murder-Mystery-Background-Image-2017-e1492234698943.png
ORGANIZER;CN="Le Chene":MAILTO:info@lechene.com
END:VEVENT
END:VCALENDAR