BEGIN:VCALENDAR
VERSION:2.0
PRODID:-//Le Chene French Cuisine - ECPv6.15.20//NONSGML v1.0//EN
CALSCALE:GREGORIAN
METHOD:PUBLISH
X-ORIGINAL-URL:https://lechene.com
X-WR-CALDESC:Events for Le Chene French Cuisine
REFRESH-INTERVAL;VALUE=DURATION:PT1H
X-Robots-Tag:noindex
X-PUBLISHED-TTL:PT1H
BEGIN:VTIMEZONE
TZID:America/Los_Angeles
BEGIN:DAYLIGHT
TZOFFSETFROM:-0800
TZOFFSETTO:-0700
TZNAME:PDT
DTSTART:20220313T100000
END:DAYLIGHT
BEGIN:STANDARD
TZOFFSETFROM:-0700
TZOFFSETTO:-0800
TZNAME:PST
DTSTART:20221106T090000
END:STANDARD
BEGIN:DAYLIGHT
TZOFFSETFROM:-0800
TZOFFSETTO:-0700
TZNAME:PDT
DTSTART:20230312T100000
END:DAYLIGHT
BEGIN:STANDARD
TZOFFSETFROM:-0700
TZOFFSETTO:-0800
TZNAME:PST
DTSTART:20231105T090000
END:STANDARD
BEGIN:DAYLIGHT
TZOFFSETFROM:-0800
TZOFFSETTO:-0700
TZNAME:PDT
DTSTART:20240310T100000
END:DAYLIGHT
BEGIN:STANDARD
TZOFFSETFROM:-0700
TZOFFSETTO:-0800
TZNAME:PST
DTSTART:20241103T090000
END:STANDARD
END:VTIMEZONE
BEGIN:VEVENT
DTSTART;TZID=America/Los_Angeles:20231231T190000
DTEND;TZID=America/Los_Angeles:20231231T223000
DTSTAMP:20260422T192612
CREATED:20231105T202212Z
LAST-MODIFIED:20231105T203048Z
UID:32413-1704049200-1704061800@lechene.com
SUMMARY:New Year's Eve 2023 - Murder Mystery Dinner Theater at Le Chene
DESCRIPTION:Happy New Year!!\nJoin us for an unforgettable New Year’s Eve 2023full of laughter and audience participation! \n\nMurder Mystery Dinner Theater by Sharpo!\nSunday\, December 31\, 20237:00 PM – Registration7:30 PM – 10:30 PM – Dinner and Show\n\n  \n Starters\nSwiss Cheese Gougeres \nSeafood Feuillette Mushroom Bay Shrimp with Lobster SauceBokisch Vineyards Albariño 2021 \nBaby Mixed Salad Vinaigrette \n  \n\n  \nMain Course\nFilet of Salmon Beurre Blanc Hollandaise SauceorBreast of Chicken with Champagne SauceorRoast Rib Eye au Jus \nGreen BeansPotatoes au Gratin \nAmadeo Tempranillo 2014 \n  \n\n  \nDessert\nCharlotte(White Chocolate Mousse Cake on a Bed of Strawberry Sauce) \nElysee Sparkling Wine \nCoffee or Tea \n  \n\nTotal of  $170 per person\, all inclusive.$145 for dinner (includes tax & tip) and $25 for the show.Event is pre-paid in advance and payment is non-refundable. \nTables seat 10 guests; bring your friends! \n\nMake Reservation\n\n	Notice: JavaScript is required for this content.
URL:https://lechene.com/event/new-years-eve-2023-murder-mystery-dinner-theater-at-le-chene/
LOCATION:Le Chene French Restaurant\, 12625 Sierra Highway\, Santa Clarita\, CA\, 91390\, United States
CATEGORIES:Holiday Events,Murder Mystery Theater
ATTACH;FMTTYPE=image/jpeg:https://lechene.com/wp-content/uploads/2023/11/Le-Chene-New-Years-Eve-2023-Murder-Mystery-Event-Image.jpg
ORGANIZER;CN="Le Chene":MAILTO:info@lechene.com
END:VEVENT
END:VCALENDAR