BEGIN:VCALENDAR
VERSION:2.0
PRODID:-//Le Chene French Cuisine - ECPv6.15.20//NONSGML v1.0//EN
CALSCALE:GREGORIAN
METHOD:PUBLISH
X-ORIGINAL-URL:https://lechene.com
X-WR-CALDESC:Events for Le Chene French Cuisine
REFRESH-INTERVAL;VALUE=DURATION:PT1H
X-Robots-Tag:noindex
X-PUBLISHED-TTL:PT1H
BEGIN:VTIMEZONE
TZID:America/Los_Angeles
BEGIN:DAYLIGHT
TZOFFSETFROM:-0800
TZOFFSETTO:-0700
TZNAME:PDT
DTSTART:20180311T100000
END:DAYLIGHT
BEGIN:STANDARD
TZOFFSETFROM:-0700
TZOFFSETTO:-0800
TZNAME:PST
DTSTART:20181104T090000
END:STANDARD
BEGIN:DAYLIGHT
TZOFFSETFROM:-0800
TZOFFSETTO:-0700
TZNAME:PDT
DTSTART:20190310T100000
END:DAYLIGHT
BEGIN:STANDARD
TZOFFSETFROM:-0700
TZOFFSETTO:-0800
TZNAME:PST
DTSTART:20191103T090000
END:STANDARD
BEGIN:DAYLIGHT
TZOFFSETFROM:-0800
TZOFFSETTO:-0700
TZNAME:PDT
DTSTART:20200308T100000
END:DAYLIGHT
BEGIN:STANDARD
TZOFFSETFROM:-0700
TZOFFSETTO:-0800
TZNAME:PST
DTSTART:20201101T090000
END:STANDARD
END:VTIMEZONE
BEGIN:VEVENT
DTSTART;TZID=America/Los_Angeles:20191231T190000
DTEND;TZID=America/Los_Angeles:20191231T223000
DTSTAMP:20260423T092514
CREATED:20191109T201704Z
LAST-MODIFIED:20191111T235232Z
UID:3141-1577818800-1577831400@lechene.com
SUMMARY:New Year's Eve 2020 - Murder Mystery Dinner Theater at Le Chene
DESCRIPTION:Happy New Year!!\nJoin us for an unforgettable New Year’s Eve 2020full of laughter and audience participation! \n  \n\n  \nMurder Mystery Dinner Theater by Sharpo!\n7:00 PM – Registration7:30 PM – 10:30 PM – Dinner and Show\n  \n\n  \nStarters\nSwiss Cheese Gougeres \nSeafood Feuilette with Lobster SauceGalicia Stars 2013 \nBaby Mixed Salad Vinaigrette \n  \n\n  \nMain Course\nFilet of Salmon with Lobster Beurre Blanc Hollandaise Sauce and Bay ShrimporBreast of Chicken with Champagne SauceorRoast Filet Mignon with Port and Truffle Sauce \nGreen BeansPotatoes au Gratin \nAmadeo Tempranillo 2014 \n  \n\n  \nDessert\nCharlotte(White Chocolate Mousse Cake on a Bed of Strawberry Sauce) \nElysee Sparkling Wine \nCoffee or Tea \n  \n\nTotal of  $150 per person\, all inclusive ($128 for dinner and $22 for the show).Event is pre-paid in advance and payment is non-refundable. \nSave 10% when you purchase online BEFORE December 1st! \nTables seat 10 guests; bring your friends! \n\n \nMake Reservation\n[caldera_form id=”CF5dc5aae7961f5″]
URL:https://lechene.com/event/new-years-eve-2020-murder-mystery-dinner-theater-at-le-chene/
LOCATION:Le Chene French Restaurant\, 12625 Sierra Highway\, Santa Clarita\, CA\, 91390\, United States
CATEGORIES:Holiday Events,Murder Mystery Theater
ATTACH;FMTTYPE=image/jpeg:https://lechene.com/wp-content/uploads/2019/11/Le-Chene-New-Years-Eve-2020-Murder-Mystery-Event-Image.jpg
ORGANIZER;CN="Le Chene":MAILTO:info@lechene.com
END:VEVENT
END:VCALENDAR