BEGIN:VCALENDAR
VERSION:2.0
PRODID:-//Le Chene French Cuisine - ECPv6.15.20//NONSGML v1.0//EN
CALSCALE:GREGORIAN
METHOD:PUBLISH
X-WR-CALNAME:Le Chene French Cuisine
X-ORIGINAL-URL:https://lechene.com
X-WR-CALDESC:Events for Le Chene French Cuisine
REFRESH-INTERVAL;VALUE=DURATION:PT1H
X-Robots-Tag:noindex
X-PUBLISHED-TTL:PT1H
BEGIN:VTIMEZONE
TZID:America/Los_Angeles
BEGIN:DAYLIGHT
TZOFFSETFROM:-0800
TZOFFSETTO:-0700
TZNAME:PDT
DTSTART:20170312T100000
END:DAYLIGHT
BEGIN:STANDARD
TZOFFSETFROM:-0700
TZOFFSETTO:-0800
TZNAME:PST
DTSTART:20171105T090000
END:STANDARD
BEGIN:DAYLIGHT
TZOFFSETFROM:-0800
TZOFFSETTO:-0700
TZNAME:PDT
DTSTART:20180311T100000
END:DAYLIGHT
BEGIN:STANDARD
TZOFFSETFROM:-0700
TZOFFSETTO:-0800
TZNAME:PST
DTSTART:20181104T090000
END:STANDARD
BEGIN:DAYLIGHT
TZOFFSETFROM:-0800
TZOFFSETTO:-0700
TZNAME:PDT
DTSTART:20190310T100000
END:DAYLIGHT
BEGIN:STANDARD
TZOFFSETFROM:-0700
TZOFFSETTO:-0800
TZNAME:PST
DTSTART:20191103T090000
END:STANDARD
END:VTIMEZONE
BEGIN:VEVENT
DTSTART;TZID=America/Los_Angeles:20180610T120000
DTEND;TZID=America/Los_Angeles:20180610T160000
DTSTAMP:20260421T110331
CREATED:20180426T020024Z
LAST-MODIFIED:20190808T010221Z
UID:1853-1528632000-1528646400@lechene.com
SUMMARY:Paella in the Garden at Le Chene
DESCRIPTION:Paella In the Garden at Le Chene\nAl Fresco\n  \n\nAppetizers \nJamon SerranoSpanish ChorizoSpanish TortillaManchego Cheese  \nMain Course \nAssorted Paella with Seafood  \nDessert\nBrazo De Gitano \nJuan’s Red Wine will be provided for the event.Bottles are available for purchase to take home. \n\n\nPlease make reservations.  \nTables seat 10 guests; bring your friends!  \n 
URL:https://lechene.com/event/paella-in-the-garden-le-chene-2/
LOCATION:Le Chene French Restaurant\, 12625 Sierra Highway\, Santa Clarita\, CA\, 91390\, United States
CATEGORIES:Wine Events
ATTACH;FMTTYPE=image/jpeg:https://lechene.com/wp-content/uploads/2018/04/paella1.jpg
ORGANIZER;CN="Le Chene":MAILTO:info@lechene.com
END:VEVENT
BEGIN:VEVENT
DTSTART;TZID=America/Los_Angeles:20180617T110000
DTEND;TZID=America/Los_Angeles:20180617T210000
DTSTAMP:20260421T110331
CREATED:20180602T041248Z
LAST-MODIFIED:20180605T225419Z
UID:2018-1529233200-1529269200@lechene.com
SUMMARY:Father's Day 2018 at Le Chene
DESCRIPTION:  \nCelebrate Father’s Day 2018 at Le Chene\nYou know that Dad works hard for you and your family\, and like most dads\, he enjoys and deserves a day with no pressure\, where he can just enjoy the company of family and friends. \nWith exquisite food and wine and one of the most beautiful settings in all of Southern California\, Le Chene is the perfect place to relax and enjoy a beautiful Father’s Day with Dad. All you have to do is get here and we’ll take care of the rest! \nMake a Reservation\n[caldera_form id=”CF56ee090b15a49″] \n 
URL:https://lechene.com/event/fathers-day-2018-at-le-chene/
LOCATION:Le Chene French Restaurant\, 12625 Sierra Highway\, Santa Clarita\, CA\, 91390\, United States
CATEGORIES:Holiday Events
ATTACH;FMTTYPE=image/jpeg:https://lechene.com/wp-content/uploads/2017/04/Fathers-Day-2017-Background-Image.jpg
ORGANIZER;CN="Le Chene":MAILTO:info@lechene.com
END:VEVENT
END:VCALENDAR