BEGIN:VCALENDAR
VERSION:2.0
PRODID:-//Le Chene French Cuisine - ECPv6.15.20//NONSGML v1.0//EN
CALSCALE:GREGORIAN
METHOD:PUBLISH
X-ORIGINAL-URL:https://lechene.com
X-WR-CALDESC:Events for Le Chene French Cuisine
REFRESH-INTERVAL;VALUE=DURATION:PT1H
X-Robots-Tag:noindex
X-PUBLISHED-TTL:PT1H
BEGIN:VTIMEZONE
TZID:America/Los_Angeles
BEGIN:DAYLIGHT
TZOFFSETFROM:-0800
TZOFFSETTO:-0700
TZNAME:PDT
DTSTART:20170312T100000
END:DAYLIGHT
BEGIN:STANDARD
TZOFFSETFROM:-0700
TZOFFSETTO:-0800
TZNAME:PST
DTSTART:20171105T090000
END:STANDARD
BEGIN:DAYLIGHT
TZOFFSETFROM:-0800
TZOFFSETTO:-0700
TZNAME:PDT
DTSTART:20180311T100000
END:DAYLIGHT
BEGIN:STANDARD
TZOFFSETFROM:-0700
TZOFFSETTO:-0800
TZNAME:PST
DTSTART:20181104T090000
END:STANDARD
BEGIN:DAYLIGHT
TZOFFSETFROM:-0800
TZOFFSETTO:-0700
TZNAME:PDT
DTSTART:20190310T100000
END:DAYLIGHT
BEGIN:STANDARD
TZOFFSETFROM:-0700
TZOFFSETTO:-0800
TZNAME:PST
DTSTART:20191103T090000
END:STANDARD
END:VTIMEZONE
BEGIN:VEVENT
DTSTART;TZID=America/Los_Angeles:20180714T173000
DTEND;TZID=America/Los_Angeles:20180714T213000
DTSTAMP:20260420T005208
CREATED:20180628T223523Z
LAST-MODIFIED:20180628T223850Z
UID:2036-1531589400-1531603800@lechene.com
SUMMARY:Bastille Day at Le Chene 2018
DESCRIPTION:Celebrate Bastille Day at Le Chene\nVive la Revolution!\n_____________________________________________________________________________________ \n\n\n  \nAs you may know\, Le Chene features one of the most extensive wine lists in all of Southern California. \nIn Celebration of Bastille Day\, 2018 we’d like to offer 15% Off any wine on our wine list!! \n \nMake your Reservation Now!\n[caldera_form id=”CF56ee090b15a49″]
URL:https://lechene.com/event/bastille-day-at-le-chene-2018/
LOCATION:Le Chene French Restaurant\, 12625 Sierra Highway\, Santa Clarita\, CA\, 91390\, United States
CATEGORIES:Holiday Events
ATTACH;FMTTYPE=image/png:https://lechene.com/wp-content/uploads/2018/06/French-Flag-and-Eiffel-Tower.png
ORGANIZER;CN="Le Chene":MAILTO:info@lechene.com
END:VEVENT
END:VCALENDAR