BEGIN:VCALENDAR
VERSION:2.0
PRODID:-//Le Chene French Cuisine - ECPv6.15.20//NONSGML v1.0//EN
CALSCALE:GREGORIAN
METHOD:PUBLISH
X-ORIGINAL-URL:https://lechene.com
X-WR-CALDESC:Events for Le Chene French Cuisine
REFRESH-INTERVAL;VALUE=DURATION:PT1H
X-Robots-Tag:noindex
X-PUBLISHED-TTL:PT1H
BEGIN:VTIMEZONE
TZID:America/Los_Angeles
BEGIN:DAYLIGHT
TZOFFSETFROM:-0800
TZOFFSETTO:-0700
TZNAME:PDT
DTSTART:20170312T100000
END:DAYLIGHT
BEGIN:STANDARD
TZOFFSETFROM:-0700
TZOFFSETTO:-0800
TZNAME:PST
DTSTART:20171105T090000
END:STANDARD
BEGIN:DAYLIGHT
TZOFFSETFROM:-0800
TZOFFSETTO:-0700
TZNAME:PDT
DTSTART:20180311T100000
END:DAYLIGHT
BEGIN:STANDARD
TZOFFSETFROM:-0700
TZOFFSETTO:-0800
TZNAME:PST
DTSTART:20181104T090000
END:STANDARD
BEGIN:DAYLIGHT
TZOFFSETFROM:-0800
TZOFFSETTO:-0700
TZNAME:PDT
DTSTART:20190310T100000
END:DAYLIGHT
BEGIN:STANDARD
TZOFFSETFROM:-0700
TZOFFSETTO:-0800
TZNAME:PST
DTSTART:20191103T090000
END:STANDARD
END:VTIMEZONE
BEGIN:VEVENT
DTSTART;TZID=America/Los_Angeles:20181027T183000
DTEND;TZID=America/Los_Angeles:20181027T213000
DTSTAMP:20260421T031845
CREATED:20180906T222926Z
LAST-MODIFIED:20190808T005915Z
UID:2117-1540665000-1540675800@lechene.com
SUMMARY:Murder Mystery Dinner Theater
DESCRIPTION:Presents:\nMurder Mystery Dinner Theater\n \nSaturday\, October 27th\, 2018\n6:30pm – Registration\n7:00pm – Dinner and Show\n  \n\n \nStarters\nBaby Mix Salad Vinaigrette \nAppetizer\nSalmon Dumpling with Lobster SauceSaint Gregory Pinot Noir Rose’ \nDinner\nChoice of:Roast New York au JusORCornish Hen with Green Peppercorn Sauce \nVegetables du JourPotatoes au GratinClaudia Grenache 2010  \nDessert \nLemon TarteCoffee or Tea \n\n\n			\n				\n				\n				\n				\n				\n			\n				\n				\n				\n				\n				Thank you so much for your interest in attending our Murder Mystery Event. \nUnfortunately\, this event is currently SOLD OUT. \nIf anything changes and any spots open up\, we will update this page and make new reservations available.\nWe will also be hosting a special New Year’s Eve Murder Mystery Event – Details on that will be posted on our site soon!!
URL:https://lechene.com/event/murder-mystery-dinner-theater-3/
LOCATION:Le Chene French Restaurant\, 12625 Sierra Highway\, Santa Clarita\, CA\, 91390\, United States
CATEGORIES:Murder Mystery Theater
ATTACH;FMTTYPE=image/png:https://lechene.com/wp-content/uploads/2017/04/Murder-Mystery-Background-Image-2017-e1492234698943.png
ORGANIZER;CN="Le Chene":MAILTO:info@lechene.com
END:VEVENT
END:VCALENDAR