BEGIN:VCALENDAR
VERSION:2.0
PRODID:-//Le Chene French Cuisine - ECPv6.15.20//NONSGML v1.0//EN
CALSCALE:GREGORIAN
METHOD:PUBLISH
X-WR-CALNAME:Le Chene French Cuisine
X-ORIGINAL-URL:https://lechene.com
X-WR-CALDESC:Events for Le Chene French Cuisine
REFRESH-INTERVAL;VALUE=DURATION:PT1H
X-Robots-Tag:noindex
X-PUBLISHED-TTL:PT1H
BEGIN:VTIMEZONE
TZID:America/Los_Angeles
BEGIN:DAYLIGHT
TZOFFSETFROM:-0800
TZOFFSETTO:-0700
TZNAME:PDT
DTSTART:20170312T100000
END:DAYLIGHT
BEGIN:STANDARD
TZOFFSETFROM:-0700
TZOFFSETTO:-0800
TZNAME:PST
DTSTART:20171105T090000
END:STANDARD
BEGIN:DAYLIGHT
TZOFFSETFROM:-0800
TZOFFSETTO:-0700
TZNAME:PDT
DTSTART:20180311T100000
END:DAYLIGHT
BEGIN:STANDARD
TZOFFSETFROM:-0700
TZOFFSETTO:-0800
TZNAME:PST
DTSTART:20181104T090000
END:STANDARD
BEGIN:DAYLIGHT
TZOFFSETFROM:-0800
TZOFFSETTO:-0700
TZNAME:PDT
DTSTART:20190310T100000
END:DAYLIGHT
BEGIN:STANDARD
TZOFFSETFROM:-0700
TZOFFSETTO:-0800
TZNAME:PST
DTSTART:20191103T090000
END:STANDARD
END:VTIMEZONE
BEGIN:VEVENT
DTSTART;TZID=America/Los_Angeles:20181224T173000
DTEND;TZID=America/Los_Angeles:20181224T210000
DTSTAMP:20260420T221437
CREATED:20181108T054039Z
LAST-MODIFIED:20181223T204124Z
UID:2242-1545672600-1545685200@lechene.com
SUMMARY:Christmas Eve 2018
DESCRIPTION:Le Chene Presents Christmas Eve 2018\nWe invite you to join us for a very special Christmas Eve Dinner! We’ve prepared a special menu for you just for the occasion\, and we’ll start the festivities at 4 PM. We look forward to helping you celebrate. \nAs of Sunday\, December 23\, we are completely booked for the 5:30 PM\, 6 PM\, and 6:30 PM time slots on Christmas Eve.\nPlease select another available time. We look forward to helping you celebrate! \n\n\nMerry Christmas!\n			\n				Make Reservation\n			\n				\n				\n				\n				\n				Hors-d’oeuvre\n			\n			\n				\n				\n				\n				\n			\n				\n				\n				\n				\n				\n				\n				\n				\n				\n				\n				1/2 Dozen Escargot 17Shrimp Monegasque 20French Onion Soup 12Crab Cake 16Baked Brie 19Stuffed Mushrooms 15Cheese Ravioli 16Salmon Dumpling 17Lobster Ravioli 20Soft Shell Crabs 20Smoked Salmon 19 \n			\n			\n				\n				\n				\n				\n				\n				\n				\n				\n				\n				Cucumber Salad 12Tomato Salad  11Cheese Plate 18Hearts of Palm 15Tongue Vinaigrette 15Mushrooms Salad  15Spinach Salad 16Jamon Serrano (Proscuitto) 17Duck Confeit Salad 23Duck Pate’ 15Chorizo Iberico 15 \n			\n			\n				\n				\n				\n				\n			\n				\n				\n				\n				\n				\n				\n				\n				\n				\n				\n				SOUP Crème of Mushrooms \nEntrees\n			\n			\n				\n				\n				\n				\n			\n				\n				\n				\n				\n				\n				\n				\n				\n				\n				\n				Osso Bucco 42Veal Chop with Morrilles 45Veal Forestiere 38New York Bordelaise Butter 41Filet Mignon Au Poivre 45Filet Mignon Au Roquefort 45Filet Mignon and Lobster Tail 100Tenderloin Tip Béarnaise 39Beef Bourguignon 36Beef Tongue with Capers 35Calf’s Liver Bercy 37Sweetbreads Aux Morilles 40Buffalo Rib Eye w/ Oyster Mushrooms 45Lamb Chops A’Lail 45Roast Rib Eye Au Jus 45Rabbit Moutarde 36Venison Loin Poivrade 43Orange Roughy Bretonne 38Frog Legs Provencale 39Sandabs Veronique 36Elk Chops with Cranberry Sauce 46Chicken Champagne 36 \n			\n			\n				\n				\n				\n				\n				\n				\n				\n				\n				\n				Chicken with Dill sauce 36Chicken Lobster Sauce 43Chicken Pasta 36Chicken Strawberry 37Duck A L’Orange 40Duck Amaretto 37Duck Cranberry 37Duck Green Peppercorn 39Lobster Tail 72Lobster Fricassee 47Lobster Le Chene 45Scallops Provencale 43Shrimp Scallops Biarritz 39Shrimp Monégasque 43Shrimp Escoffier 43Scalone Almondine 35Salmon Moutard 37Salmon Feuillette Beurre Blanc 37Calamari Abalone Style 36Seafood Pasta 39Halibut Meuniere 42Swordfish Grenobloise 39 \n			\n			\n				\n				\n				\n				\n			\n				\n				\n				\n				\n				\n				\n				Make Reservation
URL:https://lechene.com/event/christmas-eve-2018/
LOCATION:Le Chene French Restaurant\, 12625 Sierra Highway\, Santa Clarita\, CA\, 91390\, United States
CATEGORIES:Holiday Events
ATTACH;FMTTYPE=image/jpeg:https://lechene.com/wp-content/uploads/2017/11/Christmas-Eve-Background-Small.jpg
ORGANIZER;CN="Le Chene":MAILTO:info@lechene.com
END:VEVENT
BEGIN:VEVENT
DTSTART;TZID=America/Los_Angeles:20181231T173000
DTEND;TZID=America/Los_Angeles:20181231T220000
DTSTAMP:20260420T221437
CREATED:20181108T002358Z
LAST-MODIFIED:20181231T190643Z
UID:2230-1546277400-1546293600@lechene.com
SUMMARY:New Year's Eve 2019 in the Dining Room
DESCRIPTION:Le Chene French Cuisine\nNew Year’s Eve 2019 in the Dining Room\nFor those of you who would like to join us on New Year’s Eve for dinner\, without attending the Murder Mystery Event\, we have prepared a very special a special New Year’s Eve menu for your enjoyment. See below for details. We look forward to seeing you! \nPlease note that we are currently completely booked for all time slots except for 8 PM and 8:30 PM for New Year’s Eve in the dining room. You’re welcome to call us at 661-251-4315\, to see if anything opens up. Thank you\, and Happy New Year! \n			\n				Make Reservation\n			\n				\n				\n				\n				\n				\nAPPETIZERS\nSeafood Feuillette with Lobster Sauce $18 Salmon Dumpling with Lobster Sauce $17 Lobster Ravioli $20 Crab Cake Dill Sauce $16 ½ Dozen Escargot $17 Duck Pate $15 Stuffed Mushrooms $15 Shrimp Escoffier $20 Shrimp Monegasque $20 \nBaby Mixed Salad Vinaigrette Or Cream of Tomato Bisque \nENTREES\nRoast Rib Eye Au Jus Elk Bone-In Cranberries Sauce Roast Rack of Lamb with Herbs Au Jus Prime French Pork Chops Charcutiere Duck A L’Orange Filet of Salmon Lobster Beurre Blanc Hollandaise Sauce Airline Chicken Breast Champagne Sauce Roast Filet Mignon Morel Sauce Lobster Tail ($72.00) Lobster Tail & Filet Mignon ($110.00) \nGreen Beans Potatoes Au Gratin Puree of Butternut Squash \nDESSERTS\nMeringue Glace Au Café Cheesecake with Strawberries Charlotte in Strawberry Sauce Chocolate Cake in Vanilla Sauce Café Glace with Coffee Liqueur Creme BruleeLemon Tarte \nEntrees are $48.00 (Except Lobster Tail dishes\, where noted) \nDesserts are $14.00 \n\n			\n				Make Reservation
URL:https://lechene.com/event/new-years-eve-2019-in-the-dining-room/
LOCATION:Le Chene French Restaurant\, 12625 Sierra Highway\, Santa Clarita\, CA\, 91390\, United States
CATEGORIES:Holiday Events
ATTACH;FMTTYPE=image/jpeg:https://lechene.com/wp-content/uploads/2018/11/New-Years-Eve-Champagne-and-Hat.jpg
ORGANIZER;CN="Le Chene":MAILTO:info@lechene.com
END:VEVENT
BEGIN:VEVENT
DTSTART;TZID=America/Los_Angeles:20181231T190000
DTEND;TZID=America/Los_Angeles:20181231T223000
DTSTAMP:20260420T221437
CREATED:20181030T035832Z
LAST-MODIFIED:20190801T214351Z
UID:2202-1546282800-1546295400@lechene.com
SUMMARY:New Year's Eve 2019 - Murder Mystery Dinner Theater at Le Chene
DESCRIPTION:Happy New Year!!\nJoin us for an unforgettable New Year’s Eve 2019full of laughter and audience participation! \n  \n\n  \nMurder Mystery Dinner Theater by Sharpo!\n7:00 PM – Registration7:30 PM – 10:30 PM – Dinner and Show\n  \n\n  \nStarters\nSwiss Cheese Gougeres \nSeafood Feuilette with Lobster SauceAngeline Vineyard Sauvignon Blanc Sonoma Coast 2017 \nBaby Mixed Salad Vinaigrette \n  \n\n  \nMain Course\nFilet of Salmon with Lobster Sauce and Bay ShrimporBreast of Chicken with Champagne SauceorRoast Filet Mignon with Bernaise Sauce \nGreen BeansPotatoes au Gratin \nClaudia’s Grenache 2010 \n  \n\n  \nDessert\nCharlotte(White Chocolate Mousse Cake on a Bed of Strawberry Sauce) \nImperial Palace Blanc de Blancs \nCoffee or Tea \n  \n\n  \nTables seat 10 guests; bring your friends! \n\n \nMake Reservation\n[caldera_form id=”CF5bd8a157ad99e”]
URL:https://lechene.com/event/new-years-eve-2019-murder-mystery-dinner-theater-at-le-chene/
LOCATION:Le Chene French Restaurant\, 12625 Sierra Highway\, Santa Clarita\, CA\, 91390\, United States
CATEGORIES:Holiday Events,Murder Mystery Theater
ATTACH;FMTTYPE=image/jpeg:https://lechene.com/wp-content/uploads/2018/10/Le-Chene-New-Years-Eve-2019-Murder-Mystery-Event-Image.jpg
ORGANIZER;CN="Le Chene":MAILTO:info@lechene.com
END:VEVENT
END:VCALENDAR