BEGIN:VCALENDAR
VERSION:2.0
PRODID:-//Le Chene French Cuisine - ECPv6.15.20//NONSGML v1.0//EN
CALSCALE:GREGORIAN
METHOD:PUBLISH
X-WR-CALNAME:Le Chene French Cuisine
X-ORIGINAL-URL:https://lechene.com
X-WR-CALDESC:Events for Le Chene French Cuisine
REFRESH-INTERVAL;VALUE=DURATION:PT1H
X-Robots-Tag:noindex
X-PUBLISHED-TTL:PT1H
BEGIN:VTIMEZONE
TZID:America/Los_Angeles
BEGIN:DAYLIGHT
TZOFFSETFROM:-0800
TZOFFSETTO:-0700
TZNAME:PDT
DTSTART:20220313T100000
END:DAYLIGHT
BEGIN:STANDARD
TZOFFSETFROM:-0700
TZOFFSETTO:-0800
TZNAME:PST
DTSTART:20221106T090000
END:STANDARD
BEGIN:DAYLIGHT
TZOFFSETFROM:-0800
TZOFFSETTO:-0700
TZNAME:PDT
DTSTART:20230312T100000
END:DAYLIGHT
BEGIN:STANDARD
TZOFFSETFROM:-0700
TZOFFSETTO:-0800
TZNAME:PST
DTSTART:20231105T090000
END:STANDARD
BEGIN:DAYLIGHT
TZOFFSETFROM:-0800
TZOFFSETTO:-0700
TZNAME:PDT
DTSTART:20240310T100000
END:DAYLIGHT
BEGIN:STANDARD
TZOFFSETFROM:-0700
TZOFFSETTO:-0800
TZNAME:PST
DTSTART:20241103T090000
END:STANDARD
END:VTIMEZONE
BEGIN:VEVENT
DTSTART;TZID=America/Los_Angeles:20230513T183000
DTEND;TZID=America/Los_Angeles:20230513T220000
DTSTAMP:20260424T083752
CREATED:20230319T000940Z
LAST-MODIFIED:20230319T000944Z
UID:28557-1684002600-1684015200@lechene.com
SUMMARY:Mother's Day 2023 - Murder Mystery Dinner Theater at Le Chene
DESCRIPTION:Murder Mystery Dinner Theater by Sharpo!\nSaturday\, May 13\, 20236:30 PM – Cocktails and Registration7:00 PM – 10:00 PM – Dinner and Show\n\nStarters\nSwiss Cheese Gougeres \nBaby Mixed Salad Vinaigrette \nSeafood Feuillette \nEspirit Gassier Cotes de Provence 2017 Rose \n\nMain Course\nRoast Pork Loin with Apples au jusorSalmon MoutardeorBreast of Chicken Dill Sauce \nVegetables du JourPotatoes au Gratin \nAmadeo Tempranillo 2014 \n\nDessert\nStrawberries Roulade Creme Patissiere \nCoffee or Tea \n\nTotal of $100 per person\, all inclusive ($22 for the show – $78 for dinner. Includes tax & tip).Event is prepaid in advance\, and payment is non-refundable. \nTables seat 10 guests; bring your friends! \n\nMake Reservation\n\n	Notice: JavaScript is required for this content.
URL:https://lechene.com/event/mothers-day-2023-murder-mystery-dinner-theater-at-le-chene/
LOCATION:Le Chene French Restaurant\, 12625 Sierra Highway\, Santa Clarita\, CA\, 91390\, United States
CATEGORIES:Murder Mystery Theater
ATTACH;FMTTYPE=image/png:https://lechene.com/wp-content/uploads/2017/04/Murder-Mystery-Background-Image-2017-e1492234698943.png
ORGANIZER;CN="Le Chene":MAILTO:info@lechene.com
END:VEVENT
BEGIN:VEVENT
DTSTART;VALUE=DATE:20230514
DTEND;VALUE=DATE:20230515
DTSTAMP:20260424T083752
CREATED:20230318T234547Z
LAST-MODIFIED:20230401T011622Z
UID:28553-1684022400-1684108799@lechene.com
SUMMARY:Mother's Day 2023 at Le Chene
DESCRIPTION:Celebrate Mother’s Day 2023 at Le Chene!\nBrunch from 10:00 AM to 3:00 PM (last reservation at 2:30 PM)**Dinner from 5:00 PM to 9:00 PM (last reservation at 8:30 PM) \nOur Special Brunch Menu is listed below. We’ll use Le Chene’s regular menu for Dinner. \nWe look forward to seeing you and helping to celebrate Mom!! \n**Please note: We will not be serving Bottomless Champagne Brunch or Happy Hour on Mother’s Day.\n			\n				\n				\n				\n				\n				Brunch\nEggs Benedict (Muffin\, Canadian bacon\, Eggs and Hollandaise Sauce) – $26Eggs Alsacienne (Pasta\, Mushrooms\, Ham\, Eggs and Hollandaise Sauce) – $26Quiche Lorraine – $26Chicken and Mushrooms Crepes – $26Chicken Cordon Bleu with Egg – $26Crab Cake Florentine with Eggs – $26Filet with Roquefort Sauce and Eggs – $32Children’s Scrambled Eggs – $15 \n(Eggs Dishes are served from 10 am until 3:00 pm) \n			\n				\n				\n				\n				\n				Appetizers\n			\n			\n				\n				\n				\n				\n			\n				\n				\n				\n				\n				\n				\n				\n				\n				\n				\n				½ Dozen Escargot – $22Shrimp Monegasque – $23French Onion Soup – Small $14 / Large $17Duck Pate – $20Baked Brie – $24Stuffed Mushrooms – $21Crab Cake – $20Serrano Ham w/Melon – $22 \n			\n			\n				\n				\n				\n				\n				\n				\n				\n				\n				\n				Salmon Dumpling – $22Smoked Salmon – $24Spanish Chorizo Iberico – $19Tongue Vinaigrette – $19Tomato Salad – $15Cucumber Salad – $16Cheese Plate – $22 \n			\n			\n				\n				\n				\n				\n			\n				\n				\n				\n				\n				\n				\n				\n				\n				\n				\n				Salads\n			\n			\n				\n				\n				\n				\n			\n				\n				\n				\n				\n				\n				\n				\n				\n				\n				\n				Claudia’s Spinach Salad – $21Warm Salmon Salad – $27Shrimp Salad Vinaigrette – $34 \n			\n			\n				\n				\n				\n				\n				\n				\n				\n				\n				\n				Caesar Salad – Small $16 / Large $18Caesar Salad with Chicken – $25Duck Leg Confit Salad – $28 \n			\n			\n				\n				\n				\n				\n			\n				\n				\n				\n				\n				\n				\n				\n				\n				\n				\n				Entrees\n Salad Vinaigrette OR Cream Of Cauliflower Soup \n			\n			\n				\n				\n				\n				\n			\n				\n				\n				\n				\n				\n				\n				\n				\n				\n				\n				Filet Mignon Au Poivre – $52Filet Mignon Roquefort Sauce – $52Roast Rib Eye au Jus – $50New York Bordelaise Butter – $44Roast Pork Loin with Apples and Rosemary – $39Roast Leg of Lamb Au Jus – $41Beef Bourguignon on Pasta – $40Chicken Pasta – $41Chicken Green Peppercorn – $41Veal Forestiere – $43 \n\n			\n			\n				\n				\n				\n				\n				\n				\n				\n				\n				\n				Duck a l’Orange – $43Rabbit Moutarde – $40Shrimp Monegasque – $49Shrimp Escoffier – $49Poached Salmon Moutarde – $43Salmon Feuillette – $41European Sea Bass Almondine – $39Lobster Le Chene – Market PriceLobster Fricassee – Market PriceLobster Tail – Market PriceSeafood Pasta – $46 \n			\n			\n				\n				\n				\n				\n			\n				\n				\n				\n				\n				\n				\n				\n				\n				\n				\n				Green Beans \nPotatoes Au Gratin \nNO SUBSTITUTIONS – NO SEPARATE CHECKS ON PARTIES OF 6 OR MORE \nWe look forward to seeing you and helping to celebrate Mom!! \n**Please note: We will not be serving Bottomless Champagne Brunch or Happy Hour on Mother’s Day.\n \n			\n			\n				\n				\n				\n				\n			\n				\n				\n				\n				\n				\n				\n				Make Reservation
URL:https://lechene.com/event/mothers-day-2023-at-le-chene/
LOCATION:Le Chene French Restaurant\, 12625 Sierra Highway\, Santa Clarita\, CA\, 91390\, United States
CATEGORIES:Holiday Events
ATTACH;FMTTYPE=image/jpeg:https://lechene.com/wp-content/uploads/2017/04/Mothers-Day-Scrabble-Tiles.jpg
ORGANIZER;CN="Le Chene":MAILTO:info@lechene.com
END:VEVENT
BEGIN:VEVENT
DTSTART;TZID=America/Los_Angeles:20230517T183000
DTEND;TZID=America/Los_Angeles:20230517T220000
DTSTAMP:20260424T083752
CREATED:20230319T012951Z
LAST-MODIFIED:20230427T003532Z
UID:28561-1684348200-1684360800@lechene.com
SUMMARY:Le Chene Presents - An Evening with Medium Yesenia
DESCRIPTION:Le Chene Presents – An Evening with Medium Yesenia\nConnecting with Loved Ones In Heaven\,Giving Healing and Light to Your Questions\nWednesday\, May 17\, 20236:30 PM – Cocktails and Registration7:00 PM – 9:30 PM – Dinner and Readings\n\nStarters\n Salad Vinaigrette \nSeafood Feuillette with Mushroom and Lobster Sauce \nGalicia Stars \n\nMain Course\nBreast of Chicken Green PeppercornorPoaced Salmon Beurre BlancorRoast Pork Loin with Gherkins and Mustard Sauce \nVegetables du JourPotatoes au Gratin \nAmadeo Tempranillo 2014 \n\nDessert\nWhite Chocolate Mousse Charlotte \nCoffee\, Tea\, Sodas \n\nTotal of $100 per person ($20 for speaker\, $80 for dinner)\, all inclusive (includes tax & tip).Event is prepaid in advance\, and payment is non-refundable. \nSeating is limited – make your reservation soon! \n\nMake Reservation\n \nIn an effort to maintain intimacy for the type of event this is\, we have already reached our capacity limit and are no longer taking reservations for the May 17\, 2023 Evening with Yesenia. However\, because of the strong demand\, we are hosting another Evening with Medium Yesenia event on July 19\, 2023. \nPlease click here go to the event page for the July 19th event\, where you can make your reservation for our next Evening with Medium Yesenia. \n			\n				\n				\n				\n				\n				About Yesenia\n			\n			\n				\n				\n				\n				\n			\n				\n				\n				\n				\n				\n				\n				\n				\n				\n				\n				Yesenia Berbiar is a world renowned Spiritual Medium\, who has been reuniting people with their loved ones in heaven\, including pets\, for much of her life. \nShe has conducted hundreds of medium and psychic readings for people across the United States\, as well as Ireland\, Mexico\, Japan\, Thailand\, India\, Italy\, and France. \nBecause she is very discreet\, her clients include actors\, musicians\, medical professionals\, police officers\, educators\, business professionals\, retirees\, and working moms and dads. \nBesides conducting medium readings\, Yesenia also conducts paranormal investigations and house cleansings with her husband\, who is also a medium and professional investigator. \nDuring her free time\, which isn’t much\, she spends it with her family in Los Angeles\, California or traveling the world.
URL:https://lechene.com/event/medium-yesenia-at-le-chene-5/
LOCATION:Le Chene French Restaurant\, 12625 Sierra Highway\, Santa Clarita\, CA\, 91390\, United States
CATEGORIES:Medium Events
ATTACH;FMTTYPE=image/jpeg:https://lechene.com/wp-content/uploads/2022/09/Yesenia-Logo-1920.jpg
ORGANIZER;CN="Le Chene":MAILTO:info@lechene.com
END:VEVENT
END:VCALENDAR