BEGIN:VCALENDAR
VERSION:2.0
PRODID:-//Le Chene French Cuisine - ECPv6.15.20//NONSGML v1.0//EN
CALSCALE:GREGORIAN
METHOD:PUBLISH
X-ORIGINAL-URL:https://lechene.com
X-WR-CALDESC:Events for Le Chene French Cuisine
REFRESH-INTERVAL;VALUE=DURATION:PT1H
X-Robots-Tag:noindex
X-PUBLISHED-TTL:PT1H
BEGIN:VTIMEZONE
TZID:America/Los_Angeles
BEGIN:DAYLIGHT
TZOFFSETFROM:-0800
TZOFFSETTO:-0700
TZNAME:PDT
DTSTART:20220313T100000
END:DAYLIGHT
BEGIN:STANDARD
TZOFFSETFROM:-0700
TZOFFSETTO:-0800
TZNAME:PST
DTSTART:20221106T090000
END:STANDARD
BEGIN:DAYLIGHT
TZOFFSETFROM:-0800
TZOFFSETTO:-0700
TZNAME:PDT
DTSTART:20230312T100000
END:DAYLIGHT
BEGIN:STANDARD
TZOFFSETFROM:-0700
TZOFFSETTO:-0800
TZNAME:PST
DTSTART:20231105T090000
END:STANDARD
BEGIN:DAYLIGHT
TZOFFSETFROM:-0800
TZOFFSETTO:-0700
TZNAME:PDT
DTSTART:20240310T100000
END:DAYLIGHT
BEGIN:STANDARD
TZOFFSETFROM:-0700
TZOFFSETTO:-0800
TZNAME:PST
DTSTART:20241103T090000
END:STANDARD
END:VTIMEZONE
BEGIN:VEVENT
DTSTART;TZID=America/Los_Angeles:20230714T173000
DTEND;TZID=America/Los_Angeles:20230714T213000
DTSTAMP:20260423T202649
CREATED:20230412T022131Z
LAST-MODIFIED:20230526T232304Z
UID:29336-1689355800-1689370200@lechene.com
SUMMARY:Bastille Day at Le Chene 2023
DESCRIPTION:Celebrate Bastille Day 2023 at Le Chene\nVive la Revolution!\n_____________________________________________________________________________________ \n\nAs you may know\, Le Chene features one of the most extensive wine lists in all of Southern California. \nIn Celebration of Bastille Day\, 2023 we’d like to offer 15% Off your dinner!! \nIf you’re on our email list\, you can print out the email to receive the discount. Or\, you can ask your server about our Bastille Day discount using our secret password: “liberté\, égalité\, fraternité” \n\n			\n				Make Reservation
URL:https://lechene.com/event/bastille-day-at-le-chene-2023/
LOCATION:Le Chene French Restaurant\, 12625 Sierra Highway\, Santa Clarita\, CA\, 91390\, United States
CATEGORIES:Holiday Events
ATTACH;FMTTYPE=image/png:https://lechene.com/wp-content/uploads/2018/06/French-Flag-and-Eiffel-Tower.png
ORGANIZER;CN="Le Chene":MAILTO:info@lechene.com
END:VEVENT
BEGIN:VEVENT
DTSTART;TZID=America/Los_Angeles:20230714T183000
DTEND;TZID=America/Los_Angeles:20230714T220000
DTSTAMP:20260423T202649
CREATED:20230526T235957Z
LAST-MODIFIED:20230602T021539Z
UID:30795-1689359400-1689372000@lechene.com
SUMMARY:An Evening of Enchantment and Magic at Le Chene!
DESCRIPTION:Celebrating Bastille Day\nAn Evening of Enchantment and Magic at Le Chene!\nJoin us for an unforgettable evening hosted by Sharpo (Close-Up Performer at the WorldFamous Magic Castle) along with more special\, guest star top professional Magicians!\nFriday\, July 14\, 20236:30 PM – Cocktails and Registration7:00 PM – 10:00 PM – Dinner and Show\n\nStarters\nSalad Vinaigrette \nButternut Squash Ravioli \nEstancia Chardonnay \n\nMain Course\nBreast of Chicken ChampagneorSalmon MoutardeorRoast New York Steak Bordelaise Sauce \nVegetables du JourPotatoes au Gratin \nAmadeo Tempranillo 2014 \n\nDessert\nTarte aux Pommes \nCoffee\, Tea Sodas \n\nTotal of $100 per person\, all inclusive ($22 for the show – $78 for dinner. Includes tax & tip).Event is prepaid in advance\, and payment is non-refundable. \nTables seat 10 guests; bring your friends! \n\nMake Reservation\n\n	Notice: JavaScript is required for this content.
URL:https://lechene.com/event/an-evening-of-enchantment-and-magic-at-le-chene/
LOCATION:Le Chene French Restaurant\, 12625 Sierra Highway\, Santa Clarita\, CA\, 91390\, United States
CATEGORIES:Dinner Theater
ATTACH;FMTTYPE=image/jpeg:https://lechene.com/wp-content/uploads/2023/06/Sharpo-Enchantment-and-Magic-2023-Graphic-with-Lineup-of-Magicians.jpg
ORGANIZER;CN="Le Chene":MAILTO:info@lechene.com
END:VEVENT
BEGIN:VEVENT
DTSTART;TZID=America/Los_Angeles:20230719T183000
DTEND;TZID=America/Los_Angeles:20230719T213000
DTSTAMP:20260423T202649
CREATED:20230426T013231Z
LAST-MODIFIED:20230528T210739Z
UID:29832-1689791400-1689802200@lechene.com
SUMMARY:Le Chene Presents - An Evening with Medium Yesenia
DESCRIPTION:Le Chene Presents – An Evening with Medium Yesenia\nConnecting with Loved Ones In Heaven\,Giving Healing and Light to Your Questions\nWednesday\, July 19\, 20236:30 PM – Cocktails and Registration7:00 PM – 9:30 PM – Dinner and Readings\n\nStarters\n Salad Vinaigrette \nSeafood Feuillette with Mushroom and Lobster Sauce \nGalicia Stars \n\nMain Course\nBreast of Chicken Green PeppercornorPoached Salmon Beurre BlancorRoast New York Steak Bordelaise Butter \nVegetables du JourPotatoes au Gratin \nAmadeo Tempranillo 2014 \n\nDessert\nWhite Chocolate Mousse Charlotte \nCoffee\, Tea\, Sodas \n\nTotal of $100 per person ($20 for speaker\, $80 for dinner)\, all inclusive (includes tax & tip).Event is prepaid in advance\, and payment is non-refundable. \nSeating is limited – make your reservation soon! \n\nMake Reservation\n\n	Notice: JavaScript is required for this content.\n\n\n    \n\n\n        \n        \n        \n\n\n\n\n\n\n\n\n\n\n        \n\n        \n\n         \n \n			\n				\n				\n				\n				\n				About Yesenia\n			\n			\n				\n				\n				\n				\n			\n				\n				\n				\n				\n				\n				\n				\n				\n				\n				\n				Yesenia Berbiar is a world renowned Spiritual Medium\, who has been reuniting people with their loved ones in heaven\, including pets\, for much of her life. \nShe has conducted hundreds of medium and psychic readings for people across the United States\, as well as Ireland\, Mexico\, Japan\, Thailand\, India\, Italy\, and France. \nBecause she is very discreet\, her clients include actors\, musicians\, medical professionals\, police officers\, educators\, business professionals\, retirees\, and working moms and dads. \nBesides conducting medium readings\, Yesenia also conducts paranormal investigations and house cleansings with her husband\, who is also a medium and professional investigator. \nDuring her free time\, which isn’t much\, she spends it with her family in Los Angeles\, California or traveling the world.
URL:https://lechene.com/event/medium-yesenia-at-le-chene-6/
LOCATION:Le Chene French Restaurant\, 12625 Sierra Highway\, Santa Clarita\, CA\, 91390\, United States
CATEGORIES:Medium Events
ATTACH;FMTTYPE=image/jpeg:https://lechene.com/wp-content/uploads/2022/09/Yesenia-Logo-1920.jpg
ORGANIZER;CN="Le Chene":MAILTO:info@lechene.com
END:VEVENT
BEGIN:VEVENT
DTSTART;TZID=America/Los_Angeles:20230729T180000
DTEND;TZID=America/Los_Angeles:20230729T210000
DTSTAMP:20260423T202649
CREATED:20230630T035015Z
LAST-MODIFIED:20230630T183810Z
UID:31126-1690653600-1690664400@lechene.com
SUMMARY:Stephen Hemmert Winemaker's Dinner
DESCRIPTION:Presents\nSaturday\, July 29\, 2023\, 6:00 PM\n \nWinemaker’s Dinner\n \nShowcasing Stephen Hemmert Wines\, with wines grown in ourvineyard and produced at Stephen Hemmert Winery\n\nMenu\nRose de Tannat 2018\nShrimp Monegasque with Grits \nClaudia Grenache 2018\nSalad Vinaigrette \nChoice of entree:Filet Mignon au PoivreSalmon MoutardeChicken with Mushroom Sauce \nPotatoes au GratinVegetable du Jour \nJuan’s Red 2018\nDessert\nHomemade Vanilla Ice Cream with Strawberries and Juan’s Red WineCoffee\, Tea \n*Wines grown by Alonso Family Vineyards\, produced and bottled by my friend\, Stephen Hemmert\n\nMake Your Reservation\n			\n				\n				\n				\n				\n				\n	Notice: JavaScript is required for this content.\n\n\n    \n\n\n        \n        \n        \n\n\n\n\n\n\n\n\n\n\n        \n\n        \n\n         \nPlease make your reservations online or by calling (661) 251-4315.  \n$100 per person. Wine\, food\, tip\, tax\, and a good time included!Event is prepaid in advance\, and payment  is non-refundable.Tables seat 10 guests – Bring your Friends!
URL:https://lechene.com/event/stephen-hemmert-winemakers-dinner/
LOCATION:Le Chene French Restaurant\, 12625 Sierra Highway\, Santa Clarita\, CA\, 91390\, United States
CATEGORIES:Wine Events
ATTACH;FMTTYPE=image/jpeg:https://lechene.com/wp-content/uploads/2023/06/stephen-hemmert-logo-smaller.jpg
ORGANIZER;CN="Le Chene":MAILTO:info@lechene.com
END:VEVENT
END:VCALENDAR