BEGIN:VCALENDAR
VERSION:2.0
PRODID:-//Le Chene French Cuisine - ECPv6.15.20//NONSGML v1.0//EN
CALSCALE:GREGORIAN
METHOD:PUBLISH
X-ORIGINAL-URL:https://lechene.com
X-WR-CALDESC:Events for Le Chene French Cuisine
REFRESH-INTERVAL;VALUE=DURATION:PT1H
X-Robots-Tag:noindex
X-PUBLISHED-TTL:PT1H
BEGIN:VTIMEZONE
TZID:America/Los_Angeles
BEGIN:DAYLIGHT
TZOFFSETFROM:-0800
TZOFFSETTO:-0700
TZNAME:PDT
DTSTART:20220313T100000
END:DAYLIGHT
BEGIN:STANDARD
TZOFFSETFROM:-0700
TZOFFSETTO:-0800
TZNAME:PST
DTSTART:20221106T090000
END:STANDARD
BEGIN:DAYLIGHT
TZOFFSETFROM:-0800
TZOFFSETTO:-0700
TZNAME:PDT
DTSTART:20230312T100000
END:DAYLIGHT
BEGIN:STANDARD
TZOFFSETFROM:-0700
TZOFFSETTO:-0800
TZNAME:PST
DTSTART:20231105T090000
END:STANDARD
BEGIN:DAYLIGHT
TZOFFSETFROM:-0800
TZOFFSETTO:-0700
TZNAME:PDT
DTSTART:20240310T100000
END:DAYLIGHT
BEGIN:STANDARD
TZOFFSETFROM:-0700
TZOFFSETTO:-0800
TZNAME:PST
DTSTART:20241103T090000
END:STANDARD
END:VTIMEZONE
BEGIN:VEVENT
DTSTART;TZID=America/Los_Angeles:20231123T150000
DTEND;TZID=America/Los_Angeles:20231123T190000
DTSTAMP:20260423T110058
CREATED:20231001T001306Z
LAST-MODIFIED:20231111T013942Z
UID:31957-1700751600-1700766000@lechene.com
SUMMARY:Thanksgiving at Le Chene - 2023
DESCRIPTION:Le Chene French Cuisine – Thanksgiving Menu 2023\nWe invite you to join us at Le Chene for a special Thanksgiving Day meal for you and your family.The festivities will start at 3:00 PM and we hope to see you here! \nAs of Friday\, November 10\, 2023\, we are currently fully booked for Thanksgiving. If anything changes\, we will update this page but in the meantime\, we sincerely hope to see you another time at Le Chene and we wish you a Very Happy Thanksgiving!\n			\n				Make Reservation\n			\n				\n				\n				\n				\n				We will take reservations from 3 PM – 7 PM but we won’t close until the last customer leaves. We look forward to helping you celebrate Thanksgiving!! \n \n\nHors-d’oeuvre\n			\n			\n				\n				\n				\n				\n			\n				\n				\n				\n				\n				\n				\n				\n				\n				\n				\n				1/2 Dozen Escargot 22Shrimp Monegasque 25Shrimp Escoffier 25French Onion Soup 17Stuffed Mushrooms 21Baked Brie 24Soft Shell Crab 25Crab Cake 21Lobster Ravioli 27Cheese Ravioli 22Butternut  Squash Ravioli 22Sweet Potato Ravioli 22Salmon Dumpling 22Smoked Salmon 24Tongue Vinaigrette 20 \n			\n			\n				\n				\n				\n				\n				\n				\n				\n				\n				\n				Charcuterie 25Cheese Plate 23Jamon Serrano (Proscuitto) 22Chorizo (Hot/Mild) 20Duck Pate’ 20Hearts of Palm 20Shrimp Salad 34Duck Confit Salad 28Claudia’s Spinach Salad 21Caesar Salad 18Caesar Salad with Chicken 25Mushroom Salad 20Cucumber Salad 17 Tomato Salad 16 \n			\n			\n				\n				\n				\n				\n			\n				\n				\n				\n				\n				\n				\n				\n				\n				\n				\n				Soup\nCrème of Tomatoes \nEntrees\nServed with Salad Vinaigrette or Soup \n			\n			\n				\n				\n				\n				\n			\n				\n				\n				\n				\n				\n				\n				\n				\n				\n				\n				Filet Mignon Au Poivre 52Filet Mignon Au Roquefort 52Filet Mignon and Lobster Tail – Market PriceOsso Bucco 49New York Bordelaise Butter 48Tenderloin Tip Béarnaise 46Beef Bourguignon 43Beef Tongue w/Capers 42Buffalo Rib Eye w/Oyster Mushrooms 52Roast Elk with Cranberry 53Rack of Lamb with Herbs Au Jus 53Venison Loin Poivrade 50Calf’s Liver Bercy 44Rabbit Moutarde 43Chicken Strawberry 44Chicken with Dill Sauce 43Frog legs Provencale 46 \n \n			\n			\n				\n				\n				\n				\n				\n				\n				\n				\n				\n				Duck A L’Orange 47Duck Green Peppercorn 46Duck Amaretto 44Duck Cranberry 44Lobster Tail – Market PriceLobster Fricassee – Market PriceLobster Le Chene – Market PriceScallops Provencale 50Shrimp Monégasque 50Shrimp Escoffier 50Shrimp Scallops Biarritz 46Halibut Meuniere 49Orange Roughy Bretonne 45Salmon Feuillette 44Salmon Moutarde 44Trout Almondine 40 \n \n			\n			\n				\n				\n				\n				\n			\n				\n				\n				\n				\n				\n				\n				\n				\n				\n				\n				Specials\nTurkey Dinner with all the trimmings   38 Roasted Goose with all the trimmings   42Roast Rib Eye au Jus   50 \n			\n				\n				\n				\n				\n				Dessert\nPumpkin Pie   9Apple Pie   9 \n			\n				\n				\n				\n				\n				Wine Specials\nJuan’s Red Wine Bottle   35 Claudia’s Grenache Bottle   35Beaujolais Nouveau   37 \n\n			\n			\n				\n				\n				\n				\n			\n				\n				\n				\n				\n				\n				\n				Make Reservation\n			\n				\n				\n				\n				\n				We will take reservations from 3 PM – 7 PM but we won’t close until the last customer leaves. We look forward to helping you celebrate Thanksgiving!! \nAs of Friday\, November 10\, 2023\, we are currently fully booked for Thanksgiving. If anything changes\, we will update this page but in the meantime\, we sincerely hope to see you another time at Le Chene and we wish you a Very Happy Thanksgiving!
URL:https://lechene.com/event/thanksgiving-at-le-chene-2023/
LOCATION:Le Chene French Restaurant\, 12625 Sierra Highway\, Santa Clarita\, CA\, 91390\, United States
CATEGORIES:Holiday Events
ATTACH;FMTTYPE=image/jpeg:https://lechene.com/wp-content/uploads/2017/10/Happy-Thanksgiving.jpg
ORGANIZER;CN="Le Chene":MAILTO:info@lechene.com
END:VEVENT
END:VCALENDAR