BEGIN:VCALENDAR
VERSION:2.0
PRODID:-//Le Chene French Cuisine - ECPv6.15.20//NONSGML v1.0//EN
CALSCALE:GREGORIAN
METHOD:PUBLISH
X-WR-CALNAME:Le Chene French Cuisine
X-ORIGINAL-URL:https://lechene.com
X-WR-CALDESC:Events for Le Chene French Cuisine
REFRESH-INTERVAL;VALUE=DURATION:PT1H
X-Robots-Tag:noindex
X-PUBLISHED-TTL:PT1H
BEGIN:VTIMEZONE
TZID:America/Los_Angeles
BEGIN:DAYLIGHT
TZOFFSETFROM:-0800
TZOFFSETTO:-0700
TZNAME:PDT
DTSTART:20220313T100000
END:DAYLIGHT
BEGIN:STANDARD
TZOFFSETFROM:-0700
TZOFFSETTO:-0800
TZNAME:PST
DTSTART:20221106T090000
END:STANDARD
BEGIN:DAYLIGHT
TZOFFSETFROM:-0800
TZOFFSETTO:-0700
TZNAME:PDT
DTSTART:20230312T100000
END:DAYLIGHT
BEGIN:STANDARD
TZOFFSETFROM:-0700
TZOFFSETTO:-0800
TZNAME:PST
DTSTART:20231105T090000
END:STANDARD
BEGIN:DAYLIGHT
TZOFFSETFROM:-0800
TZOFFSETTO:-0700
TZNAME:PDT
DTSTART:20240310T100000
END:DAYLIGHT
BEGIN:STANDARD
TZOFFSETFROM:-0700
TZOFFSETTO:-0800
TZNAME:PST
DTSTART:20241103T090000
END:STANDARD
END:VTIMEZONE
BEGIN:VEVENT
DTSTART;TZID=America/Los_Angeles:20231224T163000
DTEND;TZID=America/Los_Angeles:20231224T210000
DTSTAMP:20260423T093705
CREATED:20231105T224027Z
LAST-MODIFIED:20231105T224031Z
UID:32419-1703435400-1703451600@lechene.com
SUMMARY:Christmas Eve 2023
DESCRIPTION:Le Chene Presents Christmas Eve 2023\nWe invite you to join us for a very special Christmas Eve Dinner! We’ve prepared a special menu for you just for the occasion\, and since we won’t be having our normal Sunday Brunch\, we’ll start the festivities at 4:30 PM. We look forward to helping you celebrate. \n \nMerry Christmas!\n			\n				Make Reservation\n			\n				\n				\n				\n				\n				Hors-d’oeuvre\n			\n			\n				\n				\n				\n				\n			\n				\n				\n				\n				\n				\n				\n				\n				\n				\n				\n				1/2 Dozen Escargot 22Shrimp Monegasque 25French Onion Soup 17Crab Cake 21Baked Brie 24Stuffed Mushrooms 21Cheese Ravioli 22Salmon Dumpling 22Lobster Ravioli 27Soft Shell Crabs 25Smoked Salmon 24 \n			\n			\n				\n				\n				\n				\n				\n				\n				\n				\n				\n				Cucumber Salad 17Tomato Salad  16Cheese Plate 23Hearts of Palm 20Tongue Vinaigrette 20Mushrooms Salad  20Claudia’s Spinach Salad 21Jamon Serrano (Proscuitto) 22Duck Confeit Salad 28Duck Pate’ 20Chorizo Iberico 20 \n			\n			\n				\n				\n				\n				\n			\n				\n				\n				\n				\n				\n				\n				\n				\n				\n				\n				SOUP Crème of Mushrooms \nEntrees\n			\n			\n				\n				\n				\n				\n			\n				\n				\n				\n				\n				\n				\n				\n				\n				\n				\n				Roast Rack of Lamb 53Filet Mignon Au Poivre 52Filet Mignon Au Roquefort 52Filet Mignon and Lobster Tail Market PriceBuffalo Rib Eye w/ Oyster Mushrooms 52Osso Bucco 49New York Bordelaise Butter 48Tenderloin Tip Béarnaise 46Beef Bourguignon 43Beef Tongue with Capers 42Boar Goulash 42Elk Chops with Cranberry Sauce 53Pork Chops Charcutiere 47Veal Chop with Morels 52Veal Forestiere 44Venison Loin Poivrade 50Sweetbreads Aux Morilles 47Calf’s Liver Bercy 44Rabbit Moutarde 43Chicken Lobster Sauce 50Chicken Strawberry 44Chicken with Dill Sauce 43Chicken Champagne 43 \n			\n			\n				\n				\n				\n				\n				\n				\n				\n				\n				\n				Chicken Pasta 42Frog Legs Provencale 46Duck A L’Orange 47Duck Green Peppercorn 46Duck Amaretto 44Duck Cranberry 44Lobster Tail Market PriceLobster Fricassee Market PriceLobster Le Chene Market PriceShrimp Monégasque 50Shrimp Escoffier 50Scallops Provencale 50Shrimp Scallops Biarritz 46Halibut Meuniere 49Swordfish Grenobloise 46Seafood Pasta 46Orange Roughy Bretonne 45Salmon Feuillette Beurre Blanc 44Salmon Moutard 44Sandabs Veronique 43Calamari Abalone Style 43Trout Almondine 40 \n			\n			\n				\n				\n				\n				\n			\n				\n				\n				\n				\n				\n				\n				Make Reservation
URL:https://lechene.com/event/christmas-eve-2023/
LOCATION:Le Chene French Restaurant\, 12625 Sierra Highway\, Santa Clarita\, CA\, 91390\, United States
CATEGORIES:Holiday Events
ATTACH;FMTTYPE=image/jpeg:https://lechene.com/wp-content/uploads/2017/11/Christmas-Eve-Background-Small.jpg
ORGANIZER;CN="Le Chene":MAILTO:info@lechene.com
END:VEVENT
END:VCALENDAR